BEGIN:VCALENDAR
VERSION:2.0
PRODID:-//ceres.rub.de//events//
CALSCALE:GREGORIAN
METHOD:PUBLISH
X-WR-TIMEZONE:UTC
BEGIN:VEVENT
SUMMARY:Young Scientists Research Colloquium
DTSTART:20130717T161500Z
DTEND:20130717T174500Z
DTSTAMP:20260422T114233Z
UID:en-20130717-ceres-colloquium-419@ceres.rub.de
CATEGORIES:
DESCRIPTION:schedule\nDhammananda Thammannawe: Buddhism transformed - Focu
 s on Theravada & Buddha Haus Network in Germany.\n \nReview of the SS13 -
  Preview on the WS13/14
LOCATION:FNO 02/ 73-75
URL:https://ceres.rub.de/en/events/en-20130717-ceres-colloquium/
END:VEVENT
END:VCALENDAR
