BEGIN:VCALENDAR
VERSION:2.0
PRODID:-//ceres.rub.de//events//
CALSCALE:GREGORIAN
METHOD:PUBLISH
X-WR-TIMEZONE:UTC
BEGIN:VEVENT
SUMMARY:CERES B Group Meeting
DTSTART:20130703T160000Z
DTEND:20130703T180000Z
DTSTAMP:20260422T114313Z
UID:en-20130703-ceres-b-meeting-435@ceres.rub.de
CATEGORIES:
DESCRIPTION:\nsummarize the last two meetings and discuss further steps\ne
 xplore relevant general/theoretical literature\n
LOCATION:FNO 02/ 40-46
URL:https://ceres.rub.de/en/events/en-20130703-ceres-b-meeting/
END:VEVENT
END:VCALENDAR
