BEGIN:VCALENDAR
VERSION:2.0
PRODID:-//ceres.rub.de//events//
CALSCALE:GREGORIAN
METHOD:PUBLISH
X-WR-TIMEZONE:UTC
BEGIN:VEVENT
SUMMARY:CERES B Group Meeting
DTSTART:20130605T160000Z
DTEND:20130605T180000Z
DTSTAMP:20260421T023206Z
UID:en-20130605-ceres-b-meeting-433@ceres.rub.de
CATEGORIES:
DESCRIPTION:Topic: animals/animal-human relationships. \nWith inputs by A
 lexandra Cuffel\, Licia Di Giacinto\, and Luuk Houwen.
LOCATION:FNO 02/ 40-46
URL:https://ceres.rub.de/en/events/en-20130605-ceres-b-meeting/
END:VEVENT
END:VCALENDAR
