BEGIN:VCALENDAR
VERSION:2.0
PRODID:-//ceres.rub.de//events//
CALSCALE:GREGORIAN
METHOD:PUBLISH
X-WR-TIMEZONE:UTC
BEGIN:VEVENT
SUMMARY:Colloquium for PhDStudents & Young Researchers
DTSTART:20170706T160000Z
DTEND:20170706T173000Z
DTSTAMP:20260420T141432Z
UID:colloquium-phdstudents-young-researchers_20170706-3786@ceres.rub.de
CATEGORIES:
DESCRIPTION:Presentation of PhD project: Lisa Wevelsiep\nPresentation of P
 hD project: Stefan Schaak\n
LOCATION:CERES Palais\, room "Turfan" (0.13)
URL:https://ceres.rub.de/en/events/colloquium-phdstudents-young-researcher
 s_20170706/
END:VEVENT
END:VCALENDAR
