BEGIN:VCALENDAR
VERSION:2.0
PRODID:-//ceres.rub.de//events//
CALSCALE:GREGORIAN
METHOD:PUBLISH
X-WR-TIMEZONE:UTC
BEGIN:VEVENT
SUMMARY:CERES Young Scientists Research Colloquium
DTSTART:20131107T170000Z
DTEND:20131107T190000Z
DTSTAMP:20260422T050813Z
UID:ceres-young-scientists-research-colloquium-742@ceres.rub.de
CATEGORIES:
DESCRIPTION:
LOCATION:FNO 02/ 73-75
URL:https://ceres.rub.de/en/events/ceres-young-scientists-research-colloqu
 ium/
END:VEVENT
END:VCALENDAR
