BEGIN:VCALENDAR
VERSION:2.0
PRODID:-//ceres.rub.de//events//
CALSCALE:GREGORIAN
METHOD:PUBLISH
X-WR-TIMEZONE:UTC
BEGIN:VEVENT
SUMMARY:CERES workshop on empirical methods
DTSTART:20130916T080000Z
DTEND:20130917T160000Z
DTSTAMP:20260422T084753Z
UID:ceres-workshop-on-empirical-methods-438@ceres.rub.de
CATEGORIES:
DESCRIPTION:
LOCATION:FNO 02/ 40-46
URL:https://ceres.rub.de/en/events/ceres-workshop-on-empirical-methods/
END:VEVENT
END:VCALENDAR
