BEGIN:VCALENDAR
VERSION:2.0
PRODID:-//ceres.rub.de//events//
CALSCALE:GREGORIAN
METHOD:PUBLISH
X-WR-TIMEZONE:UTC
BEGIN:VEVENT
SUMMARY:Guest Lecture: Jan N. Bremmer (Groningen)
DTSTART:20150615T161500Z
DTEND:20150615T174500Z
DTSTAMP:20260420T215211Z
UID:bremmer_2_en-1543@ceres.rub.de
CATEGORIES:
DESCRIPTION:Descents to the Underworld from Gilgamesh to Christian Late An
 tiquity\nThe lecture will trace the development of the idea of a descent i
 nto the  underworld. It will argue that Assyria had an important influence
  both  on Greece and Israel\; witness figures like Odysseus\, Heracles\, O
 rpheus\,  but also Ezekiel and Enoch. The two traditions of Greece and Isr
 ael\,  originally separate\, come together in early Christianity\, where t
 he  genre of the descent to Hell developed through Late Antiquity\, before
   gradually disintegrating during the earlier and High Middle Ages.
LOCATION:FNO 02/ 40-46
URL:https://ceres.rub.de/en/events/bremmer_2_en/
END:VEVENT
END:VCALENDAR
