BEGIN:VCALENDAR
VERSION:2.0
PRODID:-//ceres.rub.de//events//
CALSCALE:GREGORIAN
METHOD:PUBLISH
X-WR-TIMEZONE:UTC
BEGIN:VEVENT
SUMMARY:Blue Square: Karma in aller Munde - Volkstümliches und Gelehrtes 
 aus 2500 Jahren
DTSTART:20190515T160000Z
DTEND:20190515T173000Z
DTSTAMP:20260423T125025Z
UID:blue-square-karma-aller-munde-6125@ceres.rub.de
CATEGORIES:
DESCRIPTION:Öffentlicher Vortrag von Jan-Ulrich Sobisch (CERES)\n\nKarma 
 gehört zu unserem Sprachschatz. Der Duden definiert Karma\, als „das di
 e Form der Wiedergeburt eines Menschen bestimmende Handeln bzw. das durch 
 früheres Handeln bedingte gegenwärtige Schicksal.“ Der Vortrag zeichne
 t die Entwicklung dieser Idee von der vorbuddhistischen Zeit bis in die Ge
 genwart nach. Dabei werden auch einige Probleme des Begriffs angesprochen.
  Das  Hauptaugenmerk des Vortrags liegt auf dem Buddhismus\, dessen moder
 nste Form\, der „säkulare Buddhismus“ Karma sogar abschaffen will.\n\
 nVeranstaltungsort: BLUE SQUARE – Universität zum Anfassen | Kortumstr.
  90 | 44787 Bochum (Eingang Passage Voswinkel/ ehemalige Fotobox)
LOCATION:Blue Square
URL:https://ceres.rub.de/en/events/blue-square-karma-aller-munde/
END:VEVENT
END:VCALENDAR
