BEGIN:VCALENDAR
VERSION:2.0
PRODID:-//ceres.rub.de//events//
CALSCALE:GREGORIAN
METHOD:PUBLISH
X-WR-TIMEZONE:UTC
BEGIN:VEVENT
SUMMARY:Artefakte als Metaphern des Religiösen
DTSTART:20190502T070000Z
DTEND:20190503T150000Z
DTSTAMP:20260421T182112Z
UID:artefakte-als-metaphern-des-religiosen-5727@ceres.rub.de
CATEGORIES:
DESCRIPTION:Der Workshop befasst sich mit der metaphorischen Funktion von 
 Artefakten in inter-religiösen Kontaktsituationen der christlichen Missio
 n in Süd-\, Südost- und Ostasien. Der Artefak-begriff reicht dabei von B
 ildern über Plastiken und Statuen bis hin zu Gebäuden und baulichen Arra
 ngements.\n\nGesellschaften sprechen zu ihren Göttern und über ihre Göt
 ter nicht nur mit Worten und Texten\, sondern auch durch materielle Ausdru
 cksformen. Wie religiöse Kommunikation im Allgemeinen\, so ist auch dieje
 nige religiöse Kommunikation\, die sich nicht-sprachlicher Medien bedient
 \, damit befasst\, die Differenz von Immanenz und Transzendenz mit dem Zie
 l letzt-instanzlicher Kontingenzbewältigung zu bearbeiten. In diesem Proz
 ess spielen Metaphern eine zentrale Rolle. Sie sind ein Mittel\, um das Un
 verfügbare verfügbar\, das Abwesende anwesend\, das Unsagbare sagbar zu 
 machen. Metaphorische Kommunikation vollzieht sich aber nicht nur im Modus
  der gesprochenen oder geschriebenen Sprache\, sondern auch im Modus des M
 ateriellen. Artefakte leisten – genau wie andere Modi der Kommunikation 
 – eine Bearbeitung und Überbrückung der Immanenz-Transzendenz-Differen
 z.\n\nWorkshop-Programm
LOCATION:CERES Palais\, room "Ruhrpott" (4.13)
URL:https://ceres.rub.de/en/events/artefakte-als-metaphern-des-religiosen/
END:VEVENT
END:VCALENDAR
