BEGIN:VCALENDAR
VERSION:2.0
PRODID:-//ceres.rub.de//events//
CALSCALE:GREGORIAN
METHOD:PUBLISH
X-WR-TIMEZONE:UTC
BEGIN:VEVENT
SUMMARY:Annual General Assembly
DTSTART:20131121T170000Z
DTEND:20131121T190000Z
DTSTAMP:20260422T050437Z
UID:annual_general_assembly_en-405@ceres.rub.de
CATEGORIES:
DESCRIPTION:
URL:https://ceres.rub.de/en/events/annual_general_assembly_en/
END:VEVENT
END:VCALENDAR
