BEGIN:VCALENDAR
VERSION:2.0
PRODID:-//ceres.rub.de//events//
CALSCALE:GREGORIAN
METHOD:PUBLISH
X-WR-TIMEZONE:UTC
BEGIN:VEVENT
SUMMARY:Absolvierendenfeier
DTSTART:20170512T160000Z
DTEND:20170512T190000Z
DTSTAMP:20260420T145233Z
UID:absolvierendenfeier-3305@ceres.rub.de
CATEGORIES:
DESCRIPTION:
LOCATION:CERES Palais\, room "Ruhrpott" (4.13)
URL:https://ceres.rub.de/en/events/absolvierendenfeier/
END:VEVENT
END:VCALENDAR
