BEGIN:VCALENDAR
VERSION:2.0
PRODID:-//ceres.rub.de//events//
CALSCALE:GREGORIAN
METHOD:PUBLISH
X-WR-TIMEZONE:UTC
BEGIN:VEVENT
SUMMARY:Workshop "PhD"
DTSTART:20130909T140000Z
DTEND:20130909T160000Z
DTSTAMP:20260422T082230Z
UID:WS_promotion_20130909_en-431@ceres.rub.de
CATEGORIES:
DESCRIPTION:Information Event concerning PhD issues for advanced Master st
 udents  and Post-graduate students
LOCATION:FNO 02/ 40-46
URL:https://ceres.rub.de/en/events/WS_promotion_20130909_en/
END:VEVENT
END:VCALENDAR
