BEGIN:VCALENDAR
VERSION:2.0
PRODID:-//ceres.rub.de//events//
CALSCALE:GREGORIAN
METHOD:PUBLISH
X-WR-TIMEZONE:UTC
BEGIN:VEVENT
SUMMARY:Studierenden-Symposium
DTSTART:20150514T080000Z
DTEND:20150517T160000Z
DTSTAMP:20260420T232207Z
UID:Studierenden-Symposium1-1472@ceres.rub.de
CATEGORIES:
DESCRIPTION:22. Symposium der Studierenden der Religionswissenschaft in Bo
 chum\nMore informationen (German only)
LOCATION:FNO 02/ 40-46
URL:https://ceres.rub.de/en/events/Studierenden-Symposium1/
END:VEVENT
END:VCALENDAR
