BEGIN:VCALENDAR
VERSION:2.0
PRODID:-//ceres.rub.de//events//
CALSCALE:GREGORIAN
METHOD:PUBLISH
X-WR-TIMEZONE:UTC
BEGIN:VEVENT
SUMMARY:Plenary Session: Fellow Presentation
DTSTART:20130715T161500Z
DTEND:20130715T174500Z
DTSTAMP:20260422T114007Z
UID:PS_15072013_en-401@ceres.rub.de
CATEGORIES:
DESCRIPTION:Paul Fenton: The Visualization of the Saint in Jewish and Isl
 amic Mysticism\nStephen Eskildsen: Serene Meditation and the Mahayana Taoi
 st Saint in the Scripture of Empty Nothingness
URL:https://ceres.rub.de/en/events/PS_15072013_en/
END:VEVENT
END:VCALENDAR
