BEGIN:VCALENDAR
VERSION:2.0
PRODID:-//ceres.rub.de//events//
CALSCALE:GREGORIAN
METHOD:PUBLISH
X-WR-TIMEZONE:UTC
BEGIN:VEVENT
SUMMARY:Think Tank Knowledge Transfer
DTSTART:20170118T131500Z
DTEND:20170118T144500Z
DTSTAMP:20260421T025410Z
UID:20170118_think-tank-knowledge-transfer-3190@ceres.rub.de
CATEGORIES:
DESCRIPTION:Paper on processing data and figures on religious community in
  Germany presented by Christoph Wagenseil  (Religionswissenschaftlicher M
 edien- und Informationsdienst REMID e. V.)\n
LOCATION:CERES Palais\, room "Cordoba" (3.06) 
URL:https://ceres.rub.de/en/events/20170118_think-tank-knowledge-transfer/
END:VEVENT
END:VCALENDAR
