BEGIN:VCALENDAR
VERSION:2.0
PRODID:-//ceres.rub.de//events//
CALSCALE:GREGORIAN
METHOD:PUBLISH
X-WR-TIMEZONE:UTC
BEGIN:VEVENT
SUMMARY:Monday Meeting: Next Overarching Topic "Senses" in Discussion
DTSTART:20150202T151500Z
DTEND:20150202T184500Z
DTSTAMP:20260421T044211Z
UID:20150202_mm_plenary_en-1398@ceres.rub.de
CATEGORIES:
DESCRIPTION:For RUB-colleagues and KHK-fellows. Today's meeting includes a
  guest lecture given by Dr. Cathy Cantwell (Oxford University) on Engaging
  the Senses in the Tibetan tantric 'Major Practice Session' (sgrub chen)
LOCATION:FNO 02/ 40-46
URL:https://ceres.rub.de/en/events/20150202_mm_plenary_en/
END:VEVENT
END:VCALENDAR
