BEGIN:VCALENDAR
VERSION:2.0
PRODID:-//ceres.rub.de//events//
CALSCALE:GREGORIAN
METHOD:PUBLISH
X-WR-TIMEZONE:UTC
BEGIN:VEVENT
SUMMARY:Monday Meeting Plenary Session "Fellow Presentation"
DTSTART:20150119T171500Z
DTEND:20150119T184500Z
DTSTAMP:20260421T062640Z
UID:20150119_mm_plenary_en-1396@ceres.rub.de
CATEGORIES:
DESCRIPTION:KHK research fellow Berénice Lagarce-Othman will present on t
 his fellow year focus topic "tradition". Additionally Florian Lippke (Bibe
 l & Orient Museum Fribourg\,  Switzerland) will present a paper on "An 'In
 scribed Table' and three  riddles. Cultural encounter in the Mediterranean
  against the background  if recent Phoenician epigraphy".
LOCATION:FNO 02/ 40-46
URL:https://ceres.rub.de/en/events/20150119_mm_plenary_en/
END:VEVENT
END:VCALENDAR
