BEGIN:VCALENDAR
VERSION:2.0
PRODID:-//ceres.rub.de//events//
CALSCALE:GREGORIAN
METHOD:PUBLISH
X-WR-TIMEZONE:UTC
BEGIN:VEVENT
SUMMARY:Year-End and Come-Together
DTSTART:20141215T173000Z
DTEND:20141215T210000Z
DTSTAMP:20260421T080502Z
UID:20141215_mm_endofyear_en-1393@ceres.rub.de
CATEGORIES:
DESCRIPTION:
LOCATION:FNO 02/ 40-46
URL:https://ceres.rub.de/en/events/20141215_mm_endofyear_en/
END:VEVENT
END:VCALENDAR
