BEGIN:VCALENDAR
VERSION:2.0
PRODID:-//ceres.rub.de//events//
CALSCALE:GREGORIAN
METHOD:PUBLISH
X-WR-TIMEZONE:UTC
BEGIN:VEVENT
SUMMARY:Monday Meeting: Research Field 1 (Formation)
DTSTART:20141208T151500Z
DTEND:20141208T164500Z
DTSTAMP:20260421T080326Z
UID:20141208_mm_formation_en-1390@ceres.rub.de
CATEGORIES:
DESCRIPTION:For RUB-colleagues and fellows.
LOCATION:FNO 02/ 40-46
URL:https://ceres.rub.de/en/events/20141208_mm_formation_en/
END:VEVENT
END:VCALENDAR
