BEGIN:VCALENDAR
VERSION:2.0
PRODID:-//ceres.rub.de//events//
CALSCALE:GREGORIAN
METHOD:PUBLISH
X-WR-TIMEZONE:UTC
BEGIN:VEVENT
SUMMARY:Monday Meeting: Plenary Session
DTSTART:20141117T171500Z
DTEND:20141117T184500Z
DTSTAMP:20260421T093039Z
UID:20141117_mm_plenary_en-1386@ceres.rub.de
CATEGORIES:
DESCRIPTION:Fellow-Presentations: Eduard Iricinschi on "Books\, Letters\, 
 and Churches: Three Models of “Tradition” in Late-Antique Western Mani
 chaeism".
LOCATION:FNO 02/ 40-46
URL:https://ceres.rub.de/en/events/20141117_mm_plenary_en/
END:VEVENT
END:VCALENDAR
