BEGIN:VCALENDAR
VERSION:2.0
PRODID:-//ceres.rub.de//events//
CALSCALE:GREGORIAN
METHOD:PUBLISH
X-WR-TIMEZONE:UTC
BEGIN:VEVENT
SUMMARY:Monday Meeting: Research Field 4 (Globalisation)
DTSTART:20141124T171500Z
DTEND:20141124T184500Z
DTSTAMP:20260421T095530Z
UID:20141117_mm_globalisation_en-1432@ceres.rub.de
CATEGORIES:
DESCRIPTION:For RUB-colleagues and fellows.
LOCATION:FNO 02/ 40-46
URL:https://ceres.rub.de/en/events/20141117_mm_globalisation_en/
END:VEVENT
END:VCALENDAR
