BEGIN:VCALENDAR
VERSION:2.0
PRODID:-//ceres.rub.de//events//
CALSCALE:GREGORIAN
METHOD:PUBLISH
X-WR-TIMEZONE:UTC
BEGIN:VEVENT
SUMMARY:Monday Meeting: Plenary Session
DTSTART:20141103T171500Z
DTEND:20141103T184500Z
DTSTAMP:20260421T093346Z
UID:20141103_mm_plenary_en-1383@ceres.rub.de
CATEGORIES:
DESCRIPTION:Fellow-Presentations: Levent Tezcan on his KHK-research proje
 ct "Institutionalization of Islam in Germany".
LOCATION:FNO 02/ 40-46
URL:https://ceres.rub.de/en/events/20141103_mm_plenary_en/
END:VEVENT
END:VCALENDAR
