BEGIN:VCALENDAR
VERSION:2.0
PRODID:-//ceres.rub.de//events//
CALSCALE:GREGORIAN
METHOD:PUBLISH
X-WR-TIMEZONE:UTC
BEGIN:VEVENT
SUMMARY:Monday Meeting: Research Field 3 (Notions)
DTSTART:20141027T151500Z
DTEND:20141027T164500Z
DTSTAMP:20260421T111156Z
UID:20141027_mm_notions_en-1381@ceres.rub.de
CATEGORIES:
DESCRIPTION:For RUB-colleagues and fellows.
LOCATION:FNO 02/ 40-46
URL:https://ceres.rub.de/en/events/20141027_mm_notions_en/
END:VEVENT
END:VCALENDAR
