BEGIN:VCALENDAR
VERSION:2.0
PRODID:-//ceres.rub.de//events//
CALSCALE:GREGORIAN
METHOD:PUBLISH
X-WR-TIMEZONE:UTC
BEGIN:VEVENT
SUMMARY:Vorstandssitzung
DTSTART:20141023T101500Z
DTEND:20141023T114500Z
DTSTAMP:20260421T111319Z
UID:20141023_mm_vorstandssitzung_en-1399@ceres.rub.de
CATEGORIES:
DESCRIPTION:
LOCATION:FNO 02/ 40-46
URL:https://ceres.rub.de/en/events/20141023_mm_vorstandssitzung_en/
END:VEVENT
END:VCALENDAR
