BEGIN:VCALENDAR
VERSION:2.0
PRODID:-//ceres.rub.de//events//
CALSCALE:GREGORIAN
METHOD:PUBLISH
X-WR-TIMEZONE:UTC
BEGIN:VEVENT
SUMMARY:Monday Meeting: Overaching Topic "Tradition"
DTSTART:20141020T161500Z
DTEND:20141020T174500Z
DTSTAMP:20260421T111043Z
UID:20141020_mm_II_en-1380@ceres.rub.de
CATEGORIES:
DESCRIPTION:Overarching Topic “tradition”: Christian Frevel (for fello
 ws only)
LOCATION:FNO 02/ 40-46
URL:https://ceres.rub.de/en/events/20141020_mm_II_en/
END:VEVENT
END:VCALENDAR
