BEGIN:VCALENDAR
VERSION:2.0
PRODID:-//ceres.rub.de//events//
CALSCALE:GREGORIAN
METHOD:PUBLISH
X-WR-TIMEZONE:UTC
BEGIN:VEVENT
SUMMARY:Apokryphe Texte im Kultur- und Religionskontakt
DTSTART:20141030T083000Z
DTEND:20141031T140000Z
DTSTAMP:20260421T124858Z
UID:workshop_simonis_30-10-14_de-1123@ceres.rub.de
CATEGORIES:
DESCRIPTION:Programm
URL:https://ceres.rub.de/de/events/workshop_simonis_30-10-14_de/
END:VEVENT
END:VCALENDAR
