BEGIN:VCALENDAR
VERSION:2.0
PRODID:-//ceres.rub.de//events//
CALSCALE:GREGORIAN
METHOD:PUBLISH
X-WR-TIMEZONE:UTC
BEGIN:VEVENT
SUMMARY:Treffen Wissenstransfer
DTSTART:20150427T141500Z
DTEND:20150427T154500Z
DTSTAMP:20260421T034155Z
UID:wissenstransfer_2-1528@ceres.rub.de
CATEGORIES:
DESCRIPTION:
LOCATION:FNO 02/ 40-46
URL:https://ceres.rub.de/de/events/wissenstransfer_2/
END:VEVENT
END:VCALENDAR
