BEGIN:VCALENDAR
VERSION:2.0
PRODID:-//ceres.rub.de//events//
CALSCALE:GREGORIAN
METHOD:PUBLISH
X-WR-TIMEZONE:UTC
BEGIN:VEVENT
SUMMARY:Filmvorführung: “The Three Peaks” 
DTSTART:20150714T140000Z
DTEND:20150714T160000Z
DTSTAMP:20260420T231747Z
UID:the-three-peaks2-1569@ceres.rub.de
CATEGORIES:
DESCRIPTION:“The Three Peaks” (56 min). Dokumentarfilm von Ksenia Pime
 nova. CNRS-Images\, 2016. \nSprachen: Russ.\, Tuwisch. Untertitel: Franz.
   \nIn einem Dorf der Tuwischen Republik (Russische Föderation) führen 
 drei Frauen die schamanistische Religionsgemeinschaft  "Die drei Gipfel" 
 an und bieten ihren lokalen Klienten Heilungen\, Lösungen für familiäre
  Probleme und rituelle Reinigungen an. Der Film fokussiert vera\, einer Ru
 ssin aus Moskau. Sie lernte schamanistische rituale von ihrem 1997 verstor
 benen tuwischen Schamanismusmeister\, beerbte seine Hilfsgeister und wurde
  so von ihren Klienten und anderen anerkannt. Mit diesem Fokus erörtert d
 er Film die grundlegende Frage nach der Wiederbelebung des tuwischen Scham
 anismus nach dem Ende der Sowjetunion\, insbesondere in Bezug auf die Wiss
 ensvermittlung\, die Rolle der Stammesältesten\, die Hierachien in diesem
  religiösen Feld und die Ritualkommunikation.\nDie Filmemacherin ist anwe
 send und wird den Film auf Englisch vorstellen.
URL:https://ceres.rub.de/de/events/the-three-peaks2/
END:VEVENT
END:VCALENDAR
