BEGIN:VCALENDAR
VERSION:2.0
PRODID:-//ceres.rub.de//events//
CALSCALE:GREGORIAN
METHOD:PUBLISH
X-WR-TIMEZONE:UTC
BEGIN:VEVENT
SUMMARY:Zur Soziologie des Islam – Reflexion\, Revision & Neuorientierun
 g
DTSTART:20150625T110000Z
DTEND:20150627T113000Z
DTSTAMP:20260420T233337Z
UID:soziologie_des_islam_1-1557@ceres.rub.de
CATEGORIES:
DESCRIPTION:Tagung der Sektion Religionssoziologie in der Deutschen Gesell
 schaft für Soziologiein Kooperation mit dem Centrum für religionswissens
 chaftliche Studien (CERES) der Ruhr-Universität Bochum\nProgramm der Tagu
 ng (englisch)\nAnmeldeformular (deutsch)\nUnterkunft & Anfahrt (deutsch)\n
 Der Islam ist ab den 1980er Jahren verstärkt ins Blickfeld soziologischer
  Forschung gerückt. Komplementär dazu wird in vielen westlichen Aufnahme
 ländern\, verstärkt seit dem 11. September 2001\, ein politischer und no
 rmativer Diskurs über den Islam und muslimische Einwanderer geführt\, de
 r weit bis in die akademische Forschungslandschaft hineinragt. Im Mittelpu
 nkt der Tagung steht vor allem die Reflexion auf den soziologischen Begrif
 fs- und Theorieapparat. Überholte\, bereits vielfach kritisierte theoreti
 sche Modelle sollen auf den Prüfstand gestellt werden\, seien es eurozent
 rische\, modernisierungstheoretische Ansätze oder solche\, die auf einem 
 homogenisierenden Kulturverständnis basieren und die allesamt zu einer as
 ymmetrischen Betrachtung führen. Dabei ist in analytischer Hinsicht eine 
 globale\, welthistorische Perspektive schon allein aufgrund der Migrations
 bewegungen unerlässlich: Zum einen ist es wichtig\, die wechselseitigen u
 nd inneren Verflechtungen von Wissen\, Kultur und Macht in den Blick zu ne
 hmen\, statt von der Idee einer unabhängigen\, jeweils in sich homogenen 
 westlichen oder islamischen Zivilisation auszu-gehen. Zum anderen ist ein 
 Perspektivenwechsel angestrebt: die wissenschaftliche Beobachtung sollte n
 icht primär auf die mit der Anwesenheit „des Islam“ in Europa verbund
 enen Effekte für europäische Gesellschaften fokussieren\, sondern darauf
 \, wie sich die Situation muslimischer Menschen in ihrer jeweiligen Lebens
 welt darstellt\, wie sich Aushandlungsprozesse und Alltagsleben in den Her
 kunfts- und Aufnahmegesellschaften gestalten (z. B. in rechtlicher Hinsich
 t\, mit Blick auf Aspekte wie Öffentlichkeit\, normative Ordnungen\, Gesc
 hlecht usw.).\nZugesagt haben Bryan Turner als Key-Note-Speaker und Georg 
 Stauth für die Abschlussreflexion.\nMehr Informationen im CfP
URL:https://ceres.rub.de/de/events/soziologie_des_islam_1/
END:VEVENT
END:VCALENDAR
