BEGIN:VCALENDAR
VERSION:2.0
PRODID:-//ceres.rub.de//events//
CALSCALE:GREGORIAN
METHOD:PUBLISH
X-WR-TIMEZONE:UTC
BEGIN:VEVENT
SUMMARY:Monday Meeting SFB 1475 – 09.05.2022
DTSTART:20220509T123000Z
DTEND:20220509T140000Z
DTSTAMP:20260420T095443Z
UID:sfb-1475-plenary-session-09-05-2022-7947@ceres.rub.de
CATEGORIES:
DESCRIPTION:Workshop: Let's Annotate!\nDie PIs\, kommen zum laufenden Work
 shop hinzu.\n\nHybride Veranstaltung\n\nBitte kontaktieren Sie das Koordin
 ationsteam des SFB\, falls Sie vor Ort teilnehmen möchten.
LOCATION:CERES-Palais\, Raum "Ruhrpott" (4.13)
URL:https://ceres.rub.de/de/events/sfb-1475-plenary-session-09-05-2022/
END:VEVENT
END:VCALENDAR
