BEGIN:VCALENDAR
VERSION:2.0
PRODID:-//ceres.rub.de//events//
CALSCALE:GREGORIAN
METHOD:PUBLISH
X-WR-TIMEZONE:UTC
BEGIN:VEVENT
SUMMARY:Seeing the Light: Zoroastrians in the Islamic World
DTSTART:20260212T080000Z
DTEND:20260213T150000Z
DTSTAMP:20260424T123203Z
UID:seeing-the-light-zoroastrians-in-the-islamic-world-13613@ceres.rub.de
CATEGORIES:
DESCRIPTION:The project “Arcs of Time: Zoroastrian Philosophical Anthrop
 ology’ (AOT) has two goals: the first is to critically analyze how Zoroa
 strian thinkers theorized human psychophysical composition and its relatio
 n to human history\, and the second is to integrate scholars working on Zo
 roastrian Middle Persian literature and scholars working on Arabic literat
 ure\, since these Zoroastrians writing in Middle Persian were contemporari
 es with many well-known authors writing in Arabic. The “Seeing the Light
 ” workshop is designed to achieve the second goal. Participants are invi
 ted to explore the manifold ways Zoroastrians intersect with the wider Isl
 amic world. This includes the critical inheritance of Greek and Avestan th
 ought\; the ways the Sasanian state was remembered by Zoroastrians and Mus
 lims\, Persians and Arabs\; and also the ways local communities interacted
  apart from the central seats of power. We hope to foster dialogue on the 
 historical setting\, the philosophical issues\, the concrete debates\, and
  the sociopolitical structures beneath the texts.\n\nDownload the Workshop
  program
LOCATION:Externer Veranstaltungsort
URL:https://ceres.rub.de/de/events/seeing-the-light-zoroastrians-in-the-is
 lamic-world/
END:VEVENT
END:VCALENDAR
