BEGIN:VCALENDAR
VERSION:2.0
PRODID:-//ceres.rub.de//events//
CALSCALE:GREGORIAN
METHOD:PUBLISH
X-WR-TIMEZONE:UTC
BEGIN:VEVENT
SUMMARY:Research Field 2: Tradition
DTSTART:20150615T141500Z
DTEND:20150615T154500Z
DTSTAMP:20260420T232126Z
UID:rf2_tradition_june_2-1542@ceres.rub.de
CATEGORIES:
DESCRIPTION:Rub-Colleagues & Fellows
LOCATION:FNO 02/ 40-46
URL:https://ceres.rub.de/de/events/rf2_tradition_june_2/
END:VEVENT
END:VCALENDAR
