BEGIN:VCALENDAR
VERSION:2.0
PRODID:-//ceres.rub.de//events//
CALSCALE:GREGORIAN
METHOD:PUBLISH
X-WR-TIMEZONE:UTC
BEGIN:VEVENT
SUMMARY:Post-Imperial Tibetan History and Karakhoto Texts
DTSTART:20230412T110000Z
DTEND:20230412T130000Z
DTSTAMP:20260420T123144Z
UID:post-imperial-tibetan-history-and-karakhoto-texts-9173@ceres.rub.de
CATEGORIES:
DESCRIPTION:BuddhistRoad Guest Lecture by Maho Iuchi (Kyoto)\n\nThe lectur
 e will be available live at Zoom. Please pre-register until 11 April 2023\
 , 12 pm. Zoom lecture times: 1 pm (CET)\n\nSo far\, the history of Tibet i
 n the early post-imperial period has been understood based on limited refe
 rences in later historical sources\, as there was an overwhelming lack of 
 contemporaneous sources\, especially in comparison to other periods. In th
 is context\, the Tibetan texts excavated from Karakhoto have great value a
 s a body of sources contemporary with post-imperial Tibet. That is\, they 
 provide much-needed insights into a historical void.\n\nIn this talk\, Mah
 o Iuchi will discuss some of the Tibetan Texts from Karakhoto in the Stein
  Collection of the British Library that show the influence of post-imperia
 l Tibet and their relation to the Tangut Empire (ca. 1038–1227\, in Chin
 ese sources known as Xixia 西夏).\n\n\nMaho Iuchi is a Tibetologist. She
  is Associate Professor of the Hakubi Center for Advanced Research and Gra
 duate School of Letters at Kyoto University and specializes in Tibetan his
 tory of post-imperial period. Her recent publications include: Iuchi\, Mah
 o. An Early Text on the History of Rwa sgreng Monastery: The Rgyal ba’i 
 dben gnas rwa sgreng gi bshad pa nyi ma’i ’od zer of ’Brom shes rab 
 me lce. Cambridge (MA)\, London: Harvard University Press\, 2016\; Takeuch
 i\, Tsuguhito and Maho Iuchi. Tibetan Texts from Khara-khoto in the Stein 
 Collection of the British Library. Tokyo: Toyo Bunko\, 2016. \n\n\nTo join
  the lecture\, please register at\nhttps://ruhr-uni-bochum.zoom.us/meeting
 /register/u5cscu6rqTsvGtddhU0lqRbzmW8t4kXxAcPV
LOCATION:Online-Veranstaltung
URL:https://ceres.rub.de/de/events/post-imperial-tibetan-history-and-karak
 hoto-texts/
END:VEVENT
END:VCALENDAR
