BEGIN:VCALENDAR
VERSION:2.0
PRODID:-//ceres.rub.de//events//
CALSCALE:GREGORIAN
METHOD:PUBLISH
X-WR-TIMEZONE:UTC
BEGIN:VEVENT
SUMMARY:Ordentliche Mitgliederversammlung
DTSTART:20131121T170000Z
DTEND:20131121T190000Z
DTSTAMP:20260422T063718Z
UID:ordentliche_mitgliederversammlung_de-405@ceres.rub.de
CATEGORIES:
DESCRIPTION:
URL:https://ceres.rub.de/de/events/ordentliche_mitgliederversammlung_de/
END:VEVENT
END:VCALENDAR
