BEGIN:VCALENDAR
VERSION:2.0
PRODID:-//ceres.rub.de//events//
CALSCALE:GREGORIAN
METHOD:PUBLISH
X-WR-TIMEZONE:UTC
BEGIN:VEVENT
SUMMARY:Monday Meeting: Focus Group Media II
DTSTART:20160613T161500Z
DTEND:20160613T174500Z
DTSTAMP:20260421T160136Z
UID:monday-meeting-media-2-sose16-de-2455@ceres.rub.de
CATEGORIES:
DESCRIPTION:
LOCATION:CERES-Palais\, Raum "Ruhrpott" (4.13)
URL:https://ceres.rub.de/de/events/monday-meeting-media-2-sose16-de/
END:VEVENT
END:VCALENDAR
