BEGIN:VCALENDAR
VERSION:2.0
PRODID:-//ceres.rub.de//events//
CALSCALE:GREGORIAN
METHOD:PUBLISH
X-WR-TIMEZONE:UTC
BEGIN:VEVENT
SUMMARY:Monday Meeting: Focus Group Doctrines I
DTSTART:20160502T141500Z
DTEND:20160502T154500Z
DTSTAMP:20260421T142524Z
UID:monday-meeting-doctrines-1-Sose16-de-2447@ceres.rub.de
CATEGORIES:
DESCRIPTION:During the first half of the session\, G. Espesset will briefl
 y introduce the terminology of sensory organs and perceptions in pre-moder
 n China\, outline how Taoist and Buddhist doctrines used this terminology\
 , then lead us through a reading of translated excerpts from texts in the 
 Taoist and Buddhist canons.
LOCATION:CERES-Palais\, Raum "Ruhrpott" (4.13)
URL:https://ceres.rub.de/de/events/monday-meeting-doctrines-1-Sose16-de/
END:VEVENT
END:VCALENDAR
