BEGIN:VCALENDAR
VERSION:2.0
PRODID:-//ceres.rub.de//events//
CALSCALE:GREGORIAN
METHOD:PUBLISH
X-WR-TIMEZONE:UTC
BEGIN:VEVENT
SUMMARY:Meeting "CERES-Kooperationen"
DTSTART:20131107T150000Z
DTEND:20131107T160000Z
DTSTAMP:20260422T064442Z
UID:meeting-ceres-kooperationen-753@ceres.rub.de
CATEGORIES:
DESCRIPTION:
LOCATION:FNO 02/ 43
URL:https://ceres.rub.de/de/events/meeting-ceres-kooperationen/
END:VEVENT
END:VCALENDAR
