BEGIN:VCALENDAR
VERSION:2.0
PRODID:-//ceres.rub.de//events//
CALSCALE:GREGORIAN
METHOD:PUBLISH
X-WR-TIMEZONE:UTC
BEGIN:VEVENT
SUMMARY:Lesekreis "Charisma"
DTSTART:20180615T123000Z
DTEND:20180615T140000Z
DTSTAMP:20260422T202930Z
UID:lesekreis-charisma-201806-5101@ceres.rub.de
CATEGORIES:
DESCRIPTION:Der Lesekreis setzt sich u.a. mit dem Charismabegriff bei Max 
 Weber\, Pierre Bourdieu und anderen soziologischen\, ethnologischen und re
 ligionswissenschaftlich relevanten Autor/innen auseinander. Er ist für CE
 RES-Wissenschaftler/innen\, Mitarbeiter/innen und Gastwissenschaftler/inne
 n geöffnet.\n
LOCATION:CERES-Palais\, Raum "Gandhara" (1.11)
URL:https://ceres.rub.de/de/events/lesekreis-charisma-201806/
END:VEVENT
END:VCALENDAR
