BEGIN:VCALENDAR
VERSION:2.0
PRODID:-//ceres.rub.de//events//
CALSCALE:GREGORIAN
METHOD:PUBLISH
X-WR-TIMEZONE:UTC
BEGIN:VEVENT
SUMMARY:KHK Monday Meeting: Moving towards a Typology of Religious Contact
 s 3
DTSTART:20190520T161500Z
DTEND:20190520T174500Z
DTSTAMP:20260421T200146Z
UID:khk-monday-meeting-session-3-20190520-6302@ceres.rub.de
CATEGORIES:
DESCRIPTION:Session 3: Empirical Cases
LOCATION:CERES-Palais\, Raum "Ruhrpott" (4.13)
URL:https://ceres.rub.de/de/events/khk-monday-meeting-session-3-20190520/
END:VEVENT
END:VCALENDAR
