BEGIN:VCALENDAR
VERSION:2.0
PRODID:-//ceres.rub.de//events//
CALSCALE:GREGORIAN
METHOD:PUBLISH
X-WR-TIMEZONE:UTC
BEGIN:VEVENT
SUMMARY:KHK Monday Meeting: Focus Group "Action"
DTSTART:20180514T141500Z
DTEND:20180514T154500Z
DTSTAMP:20260421T225733Z
UID:khk-monday-meeting-focus-group-action-20180514-4908@ceres.rub.de
CATEGORIES:
DESCRIPTION:
LOCATION:CERES-Palais\, Raum "Ruhrpott" (4.13)
URL:https://ceres.rub.de/de/events/khk-monday-meeting-focus-group-action-2
 0180514/
END:VEVENT
END:VCALENDAR
