BEGIN:VCALENDAR
VERSION:2.0
PRODID:-//ceres.rub.de//events//
CALSCALE:GREGORIAN
METHOD:PUBLISH
X-WR-TIMEZONE:UTC
BEGIN:VEVENT
SUMMARY:CERES Jour fixe
DTSTART:20140116T090000Z
DTEND:20140116T110000Z
DTSTAMP:20260422T033007Z
UID:jour-fixe-2014-01-16_de-736@ceres.rub.de
CATEGORIES:
DESCRIPTION:
LOCATION:FNO 02/ 40-46
URL:https://ceres.rub.de/de/events/jour-fixe-2014-01-16_de/
END:VEVENT
END:VCALENDAR
