BEGIN:VCALENDAR
VERSION:2.0
PRODID:-//ceres.rub.de//events//
CALSCALE:GREGORIAN
METHOD:PUBLISH
X-WR-TIMEZONE:UTC
BEGIN:VEVENT
SUMMARY:IAHR Kongress ||| Panel
DTSTART:20150827T070000Z
DTEND:20150827T090000Z
DTSTAMP:20260420T213428Z
UID:iahrpanel2708_12-1580@ceres.rub.de
CATEGORIES:
DESCRIPTION:Iconic Religion in Public Space (1)\nPanelleitung: Kim Knott\n
 Panel des CERES-Forschungsprojekts Iconic Religion: How Imagineries of Rel
 igious Encounter Structure Urban Space\nWithin  ongoing processes of plura
 lisation across Europe religious icons are  becoming increasingly importan
 t. Religious icons mediate between  religious concepts and objects and mat
 erialize religion in the public  space. In this two session panel we will 
 consider to what extent such  icons\, in the form of sacred buildings and 
 sites\, clothing\, public  events etc\, generate social imaginaries about 
 different religions and  their co-existence. In what ways do they invoke o
 r feed into debates  about the place of religion in ‘secular’ public l
 ife\, and the management  ofreligious diversity? Do they stimulate positiv
 e or negative  encounters? Examining religious icons in relation to the en
 counter  between different religious traditions and between the religious 
 and the  secular\, the panel will discuss how ‘iconicity’ is denoted o
 r  generated\, the extent to which icons express or encapsulate encounter\
 ,  and how icons may impact on and shape public space.\nMit:\n\nBirgit Mey
 er: Iconic Religion: An Introduction\nSusanne Lanwerd (CERES): Investigati
 ng Berlin Sites\nDaan Beekers: Material Conversions: Iconicity and the Pol
 itics of re-allocated Church buildings in Amsterdam\nSteph Berns: Bring ou
 t your Dead: The Role of Burials in the Making of Iconic Sites in London\n
 \n(Panel 27-106 | 122)
URL:https://ceres.rub.de/de/events/iahrpanel2708_12/
END:VEVENT
END:VCALENDAR
