BEGIN:VCALENDAR
VERSION:2.0
PRODID:-//ceres.rub.de//events//
CALSCALE:GREGORIAN
METHOD:PUBLISH
X-WR-TIMEZONE:UTC
BEGIN:VEVENT
SUMMARY:IAHR Kongress ||| Panel
DTSTART:20150825T070000Z
DTEND:20150825T090000Z
DTSTAMP:20260420T201516Z
UID:iahrpanel2504_12-1578@ceres.rub.de
CATEGORIES:
DESCRIPTION:Christianity and Society\nPanelleitung: Adam Knobler (CERES)\n
 Dieses Panel besteht aus drei Vorträgen: Zum ersten über Evangelikale Ch
 risten in Brazilien\, zum zweiten über afro-amerikanische Religionsgemein
 schaften in der religionswissenschaftlichen Forschung und zum dritten zur 
 Frage nach christlich-theologischen Inhalten im heutigen akademischen Denk
 en. Prof. Adam Knobler vom CERES hat sich bereiterklärt\, dieses Panel zu
  leiten.\n(Panel 25-131 | 447)
URL:https://ceres.rub.de/de/events/iahrpanel2504_12/
END:VEVENT
END:VCALENDAR
