BEGIN:VCALENDAR
VERSION:2.0
PRODID:-//ceres.rub.de//events//
CALSCALE:GREGORIAN
METHOD:PUBLISH
X-WR-TIMEZONE:UTC
BEGIN:VEVENT
SUMMARY:Gastvortrag: Die Analyse von Metaphern in religiösen und profanen
  Texten: Theorie und Praxis
DTSTART:20180326T141500Z
DTEND:20180326T154500Z
DTSTAMP:20260419T152320Z
UID:gastvortrag-von-camilla-di-biase-dyson-4960@ceres.rub.de
CATEGORIES:
DESCRIPTION:Gastvortrag von Prof. Dr. Camilla Di Biase-Dyson (Göttingen)
  im Rahmen des CERES-Forschungskolloquiums\n\nDer Vortrag wird auf deutsch
  mit englischsprachigen Folien gehalten.\n\nIm Votrag steht die religionsw
 issenschaftliche Analyse metaphorischer Sprache im Mittelpunkt. Zuerst wer
 den Metaphern und andere Tropen bestimmt\, um in einen zweiten Schritt die
  für sie geeigneten Untersuchungsmethoden herauszuarbeiten. Dabei werden 
 die Modi wie Metaphern in großen historischen Textcorpora verwendet werde
 n untersucht und betrachtet\, wie sich die Sprache je nach Genre ändert. 
 Die Herausforderungen\, Metaphern in religiösen Schriften zu analysieren\
 , werden (anhand von Fallbeispielen) besonders berücksichtigt\, so dass d
 ie Teilnehmer/innen auch ihr eigenes Forschungsmaterial zur Diskussion ein
 beziehen können.\n
LOCATION:CERES-Palais\, Raum "Ruhrpott" (4.13)
URL:https://ceres.rub.de/de/events/gastvortrag-von-camilla-di-biase-dyson/
END:VEVENT
END:VCALENDAR
