BEGIN:VCALENDAR
VERSION:2.0
PRODID:-//ceres.rub.de//events//
CALSCALE:GREGORIAN
METHOD:PUBLISH
X-WR-TIMEZONE:UTC
BEGIN:VEVENT
SUMMARY:FUSSBALLGOTT UND FUSSBALLGÖTTER - Ein Abend über Religion und Fu
 ßball im Ruhrgebiet
DTSTART:20240320T180000Z
DTEND:20240320T200000Z
DTSTAMP:20260424T151450Z
UID:fussballgott-und-fussballgotter-ein-abend-uber-rel-11345@ceres.rub.de
CATEGORIES:
DESCRIPTION:Das Stadion wird zum Fußballtempel\, der neue Stürmer zum He
 ilsbringer\, die Fans pilgern zum Trainingsgelände und was die Fußballg
 ötter auf dem Rasen nicht schaffen\, muss der Fußballgott im Himmel rich
 ten. Ist Fußball eine Religion? \n\nFür treue Fans aus Dortmund\, Schal
 ke oder Bochum\, die ihr ganzes Leben nach dem Spieltagskalender ausrichte
 n\, scheint es so zu sein. Aber kann man die Liebe zum Verein tatsächlich
  mit religiösen Glaubensüberzeugungen gleichsetzen? Bringt der Fußball 
 die Menschen so zusammen\, wie es die Kirchen immer seltener schaffen? Und
  wie lässt sich das Leben im Fußball eigentlich mit traditionellem relig
 iösem Leben vereinbaren?\n\nDiese und andere Fragen diskutiert Deutschlan
 dfunk-Moderator Matthias Friebe mit folgenden Gästen:\n\n\n	Leonid Chraga
 \, Geschäftsführer der Jüdischen Gemeinde Dortmund und Vorsitzender von
  Makkabi Bochum\n	Karsten Haug\, Pastoralreferent an der Dreifaltigkeitski
 rche am Borsigplatz – besser bekannt als BVB-Gründerkirche\n	Klaus Pfef
 fer\, Bischöflicher Generalvikar im Bistum Essen und Fan des FC Schalke\n
 	Sarah Rautert\, Religionswissenschaftlerin am Centrum für Religionswisse
 nschaftliche Studien (CERES) der Ruhr-Uni Bochum\n\n\nEine Veranstaltung d
 es Deutschen Fußballmuseum in Kooperation mit dem Centrum für Religionsw
 issenschaftliche Studien (CERES) und dem SFB 1475 „Metaphern der Religio
 n“ sowie dem Deutschlandfunk und dem Ruhr-Museum.\n\nEs handelt sich um 
 eine gemeinsame Begleitveranstaltung vom Deutschen Fußballmuseum\, dem Ru
 hr Museum Essen und der Ruhr-Universität im Rahmen der aktuellen Sonderau
 sstellung "Mythos & Moderne. Fußball im Ruhrgebiet"\n\nEintritt frei! Anm
 eldungen unter anstoss@fussballmuseum.de erbeten.
LOCATION:Deutsches Fußballmuseum Dortmund
URL:https://ceres.rub.de/de/events/fussballgott-und-fussballgotter-ein-abe
 nd-uber-rel/
END:VEVENT
END:VCALENDAR
