BEGIN:VCALENDAR
VERSION:2.0
PRODID:-//ceres.rub.de//events//
CALSCALE:GREGORIAN
METHOD:PUBLISH
X-WR-TIMEZONE:UTC
BEGIN:VEVENT
SUMMARY:Forschungskolloquium
DTSTART:20211213T150000Z
DTEND:20211213T170000Z
DTSTAMP:20260419T224745Z
UID:forschungskolloquium-20211213-7916@ceres.rub.de
CATEGORIES:
DESCRIPTION:Fengfeng Hao & Leila Abdolahi
LOCATION:Online-Veranstaltung
URL:https://ceres.rub.de/de/events/forschungskolloquium-20211213/
END:VEVENT
END:VCALENDAR
