BEGIN:VCALENDAR
VERSION:2.0
PRODID:-//ceres.rub.de//events//
CALSCALE:GREGORIAN
METHOD:PUBLISH
X-WR-TIMEZONE:UTC
BEGIN:VEVENT
SUMMARY:Forschungskolloquium
DTSTART:20190711T160000Z
DTEND:20190711T173000Z
DTSTAMP:20260422T114141Z
UID:forschungskolloquium-20190711-6220@ceres.rub.de
CATEGORIES:
DESCRIPTION:
LOCATION:CERES-Palais\, Raum "Turfan" (0.13)
URL:https://ceres.rub.de/de/events/forschungskolloquium-20190711/
END:VEVENT
END:VCALENDAR
