BEGIN:VCALENDAR
VERSION:2.0
PRODID:-//ceres.rub.de//events//
CALSCALE:GREGORIAN
METHOD:PUBLISH
X-WR-TIMEZONE:UTC
BEGIN:VEVENT
SUMMARY:Einführungsveranstaltung Studiengang Religionswissenschaft SoSe 2
 019
DTSTART:20190402T080000Z
DTEND:20190402T100000Z
DTSTAMP:20260423T163150Z
UID:einfuhrungsveranstaltung-studiengang-sose2019-5723@ceres.rub.de
CATEGORIES:
DESCRIPTION:Same procedure as every term: Am Anfang des Studiums häufen s
 ich die Fragen - und Antworten gibt es in der Einführungsveranstaltung.\n
 \nWelche Module kann ich studieren? Welche Kurse muss ich belegen? Wer leh
 rt am CERES welches Fachgebiet? - Solche und mehr Fragen  werden in der E
 inführung für Erstsemester-Studierende erörtert. Neben dem Studiendekan
  und der Studienkoordinatorin werden diverse Lehrende anwesend sein\, um s
 ich und das B.A.-Studium Religionswissenschaft am CERES vorzustellen.\n\nA
 llen Studienanfänger/innen wird die Teilnahme an dieser Einführungsveran
 staltung dringend und wärmstens empfohlen!
LOCATION:CERES-Palais\, Raum "Ruhrpott" (4.13)
URL:https://ceres.rub.de/de/events/einfuhrungsveranstaltung-studiengang-so
 se2019/
END:VEVENT
END:VCALENDAR
