BEGIN:VCALENDAR
VERSION:2.0
PRODID:-//ceres.rub.de//events//
CALSCALE:GREGORIAN
METHOD:PUBLISH
X-WR-TIMEZONE:UTC
BEGIN:VEVENT
SUMMARY:Der Heilige Krieger und sein neuer Ahnengott aus Kyushu: Die Anfä
 nge des Hachimanismus unter Shōmu Tennō
DTSTART:20140623T160000Z
DTEND:20140623T180000Z
DTSTAMP:20260421T194646Z
UID:de-heilige-krieger-1132@ceres.rub.de
CATEGORIES:
DESCRIPTION:Gastvortrag von Dr. Bernhard Scheid\, Institut für Kultur- un
 d Geistesgeschichte Asiens der Österreichischen Akademie der Wissenschaft
 en in Wien\, auf Einladung der Sektion Geschichte Japans der Fakultät fü
 r Ostasienwissenschaften\nAbtract
URL:https://ceres.rub.de/de/events/de-heilige-krieger/
END:VEVENT
END:VCALENDAR
