BEGIN:VCALENDAR
VERSION:2.0
PRODID:-//ceres.rub.de//events//
CALSCALE:GREGORIAN
METHOD:PUBLISH
X-WR-TIMEZONE:UTC
BEGIN:VEVENT
SUMMARY:Digital Scholarly Editing. An Introduction
DTSTART:20160511T161500Z
DTEND:20160511T174500Z
DTSTAMP:20260423T170742Z
UID:de-20160511-digital-scholarly-editing-2568@ceres.rub.de
CATEGORIES:
DESCRIPTION:\n\nApl. Prof. Dr. Patrick Sahle vom Cologne Center for eHuman
 ities gibt einen Ein- und Überblick über das Thema digitaler Editionen i
 n den Geisteswissenschaften.\n\nDer Vortrag findet im Rahmen des CERES Com
 puter Café statt. Vortragssprache ist Englisch. Alle Interessierten sind 
 herzlich eingeladen.
LOCATION:CERES-Palais\, Raum "Ruhrpott" (4.13)
URL:https://ceres.rub.de/de/events/de-20160511-digital-scholarly-editing/
END:VEVENT
END:VCALENDAR
